BEGIN:VCALENDAR
VERSION:2.0
PRODID:-//McKendree-Simms-Brookland United Methodist Church - ECPv6.15.18//NONSGML v1.0//EN
CALSCALE:GREGORIAN
METHOD:PUBLISH
X-WR-CALNAME:McKendree-Simms-Brookland United Methodist Church
X-ORIGINAL-URL:https://msbumc.org
X-WR-CALDESC:Events for McKendree-Simms-Brookland United Methodist Church
REFRESH-INTERVAL;VALUE=DURATION:PT1H
X-Robots-Tag:noindex
X-PUBLISHED-TTL:PT1H
BEGIN:VTIMEZONE
TZID:UTC
BEGIN:STANDARD
TZOFFSETFROM:+0000
TZOFFSETTO:+0000
TZNAME:UTC
DTSTART:20240101T000000
END:STANDARD
END:VTIMEZONE
BEGIN:VEVENT
DTSTART;TZID=UTC:20250420T100000
DTEND;TZID=UTC:20250420T100000
DTSTAMP:20260421T133312
CREATED:20250331T140028Z
LAST-MODIFIED:20250401T152403Z
UID:4482-1745143200-1745143200@msbumc.org
SUMMARY:Easter Sunday Service
DESCRIPTION:McKendree-Simms-Brookland UMC invites you to worship with us each Sunday at 10:00 AM.\nWorship In person or \nRegister here to join us for services on Zoom\nhttps://tinyurl.com/SUNDAY-MSB
URL:https://msbumc.org/event/easter-sunday-service/
LOCATION:Main Church\, 3321 24th Street\, NE\, Washington\, DC\, 20018
ATTACH;FMTTYPE=image/jpeg:https://msbumc.org/wp-content/uploads/2025/03/cross_20233c-scaled-e1743520888169.jpg
END:VEVENT
BEGIN:VEVENT
DTSTART;TZID=UTC:20250420T113000
DTEND;TZID=UTC:20250420T113000
DTSTAMP:20260421T133312
CREATED:20250331T140346Z
LAST-MODIFIED:20250401T152603Z
UID:4474-1745148600-1745148600@msbumc.org
SUMMARY:Easter Egg Hunt
DESCRIPTION:  \nEaster Egg Hunt on the playground immediately after Easter Sunday Service for children up to age 10.
URL:https://msbumc.org/event/easter-egg-hunt/
ATTACH;FMTTYPE=image/jpeg:https://msbumc.org/wp-content/uploads/2025/03/eggs_28097ac-scaled-e1743521150698.jpg
END:VEVENT
END:VCALENDAR